BEGIN:VCALENDAR
VERSION:2.0
PRODID:icalendar-ruby
CALSCALE:GREGORIAN
METHOD:PUBLISH
BEGIN:VEVENT
DTSTAMP:20260419T184300Z
UID:55-523782@mgcb.org
DTSTART:20260424T223000Z
DTEND:20260425T000000Z
CLASS:PUBLIC
CREATED:20260419T083802
DESCRIPTION:
LAST-MODIFIED:20260419T083802
LOCATION:Mechanic Grove Church of the Brethren
SUMMARY:Grace Marriage
URL;VALUE=URI:https://www.mgcb.org/events/grace-marriage/2026-04-24
ATTACH;FILENAME=What-Happens-At-Grace-Marriage.png;FMTTYPE=image/png:https:
 //dq5pwpg1q8ru0.cloudfront.net/2025/06/27/10/51/08/27e4f9b6-708d-40ea-9b2a
 -a2046eaf3ef2/What-Happens-At-Grace-Marriage.png
END:VEVENT
END:VCALENDAR
